BEGIN:VCALENDAR
VERSION:2.0
PRODID:-//Chanen Preschool - ECPv6.9.1//NONSGML v1.0//EN
CALSCALE:GREGORIAN
METHOD:PUBLISH
X-WR-CALNAME:Chanen Preschool
X-ORIGINAL-URL:https://chanenpreschoolaz.org
X-WR-CALDESC:Events for Chanen Preschool
REFRESH-INTERVAL;VALUE=DURATION:PT1H
X-Robots-Tag:noindex
X-PUBLISHED-TTL:PT1H
BEGIN:VTIMEZONE
TZID:America/Phoenix
BEGIN:STANDARD
TZOFFSETFROM:-0700
TZOFFSETTO:-0700
TZNAME:MST
DTSTART:20230101T000000
END:STANDARD
END:VTIMEZONE
BEGIN:VEVENT
DTSTART;VALUE=DATE:20231227
DTEND;VALUE=DATE:20231230
DTSTAMP:20260422T121301
CREATED:20231031T154814Z
LAST-MODIFIED:20231031T154825Z
UID:240004-1703635200-1703894399@chanenpreschoolaz.org
SUMMARY:Winter Camp Week 1 Available
DESCRIPTION:
URL:https://chanenpreschoolaz.org/event/winter-camp-week-1-available/
LOCATION:Chanen Preschool\, 10460 North 56th Street\, Scottsdale\, AZ\, 85253\, United States
CATEGORIES:Camp,For Parents,Holidays,Registration
ATTACH;FMTTYPE=image/png:https://chanenpreschoolaz.org/wp-content/uploads/2023/08/Website-Winter-Camp.png
ORGANIZER;CN="Hannah Miller":MAILTO:hmiller@cbiaz.org
END:VEVENT
END:VCALENDAR